BEGIN:VCALENDAR
VERSION:2.0
PRODID:-//WP EVENT Manager Ical//NONSGML Events //EN
CALSCALE:GREGORIAN

BEGIN:VEVENT

DTSTART:20220913T160000PMZ
DTEND:20220913T190000PMZ
LOCATION:Online
SUMMARY:Zweiteiliger Existenzgründer*innen-Start-Workshop
DESCRIPTION:!!!ANMELDUNG NUR AUF DER WEBSEITE DES Business + Innovation Center Kaiserslautern GmbH MÖGLICH!!!Am 13. September von 17:00 – 20:00 Uhr findet der erste Teil des Existenzgründer*innen-Start-Workshop statt und am 15. September der zweite Teil. Die Anmeldung bezieht sich automatisch auf beide Teile.Wer mit dem Gedanken spielt, sich selbstständig zu machen oder sogar schon dabei ist, der sollte sich umfassend informieren und beraten lassen. Das Business + Innovation Center Kaiserslautern bietet in Kooperation mit Weis und Fraundorfer GbR zu diesen Fragen Gründer:innenseminare an.


END:VEVENT
END:VCALENDAR
    