BEGIN:VCALENDAR
VERSION:2.0
PRODID:-//WP EVENT Manager Ical//NONSGML Events //EN
CALSCALE:GREGORIAN

BEGIN:VEVENT

DTSTART:20240707T230000PMZ
DTEND:20240707T230000PMZ
LOCATION:42er Foyer, Gottlieb-Daimler-Str., Gebäude: 42, 67663 Kaiserslautern
SUMMARY:Venture Dates
DESCRIPTION:Am 08. Juli 2024 wird es ein Speed-Dating geben, durch das sich Startups und Investor*innen an Infoständen kennenlernen können. Venture Dates bietet eine Plattform für Startups, Investor*innen und Co-Founder, um zusammen zu kommen, Ideen auszutauschen und wertvolle Kontakte zu knüpfen.Die drei besten Startups erhalten die Chance, sich und ihre Idee zu pitchen und tolle Preise zu gewinnen. Beim anschließenden Get-together steht das gemütliche Networking im Vordergrund, um den Tag abzurunden.!Meldet euch mit den untenstehenden Formularen als Investor oder StartUp für das Event an!Wenn ihr als Besucher kommen möchtet, meldet euch bitte beim LinkedIn Event an ZU LINKEDIN. Anmeldeschluss ist der 17.06.2024!Weitere Anweisungen findet ihr in dem PDF.Anmeldeformular InvestorenAnmeldefoprmular StartUp


END:VEVENT
END:VCALENDAR
    