BEGIN:VCALENDAR
VERSION:2.0
PRODID:-//WP EVENT Manager Ical//NONSGML Events //EN
CALSCALE:GREGORIAN

BEGIN:VEVENT

DTSTART:20250715T160000PMZ
DTEND:20250715T180000PMZ
LOCATION:Café Cosmo, Landau
SUMMARY:Startup Stammtisch Landau
DESCRIPTION:Nach dem erfolgreichen Auftakt in Kaiserslautern bringen wir den Startup Stammtisch nun auch nach Landau!Der Startup Stammtisch richtet sich an alle, die sich für Startups, unternehmerisches Denken und innovative Ideen interessieren – ob Studierende, Gründungsinteressierte, Startups oder aktive Netzwerker:innen in der Region. Euch erwartet ein offener Austausch in entspannter Atmosphäre, spannende Impulse und jede Menge Gelegenheit zum VernetzenFreu dich auf drei inspirierende Speaker:innen und einen offenen Austausch in lockerer Atmosphäre:Philip Diehl (Nuffzus) – berichtet von seiner Reise als Gründer im Bereich Vertical Farming und teilt ehrliche Einblicke in seine ErfahrungenHannah Abbas (PEC-Consulting) – spricht über Servant Leadership und stellt die Frage: Warum wird Führung oft falsch verstanden – und was hat das mit einem Lagerfeuer zu tun?Pauline Wittkowsky – angehende Social Entrepreneurin, erzählt von ihrer Idee, ihrer Motivation und ihrer erfolgreichen Crowdfunding-Kampagne, unterstützt durch IDEENWALDIm Anschluss: Zeit für Fragen, Gespräche & Netzwerken mit der lokalen GründungsszeneEingeladen sind alle, die sich für Startups, unternehmerisches Denken und neue Perspektiven interessieren – ganz gleich ob Studierende, Gründungsinteressierte oder Netzwerkaktive.


END:VEVENT
END:VCALENDAR
    