BEGIN:VCALENDAR
VERSION:2.0
PRODID:-//WP EVENT Manager Ical//NONSGML Events //EN
CALSCALE:GREGORIAN

BEGIN:VEVENT

DTSTART:20250922T163000PMZ
DTEND:20250922T200000PMZ
LOCATION:e4lab - Carl-Euler-Str. 56, 67663 Kaiserslautern
SUMMARY:Startup Stammtisch Kaiserslautern
DESCRIPTION:Sei dabei, wenn sich der Startup-Stammtisch trifft! Netzwerken, austauschen, inspirieren lassen.Am 22. September 2025 ab 17:30 Uhr treffen wir uns im e4lab. In entspannter Atmosphäre möchten wir den Dialog im lokalen Startup-Ökosystem fördern, neue Kontakte ermöglichen und inspirierende Impulse aus der Gründungswelt mit euch teilen. Mit dabei sind E-Lyte Innovation und Resolvio.Mit dabei ist Ralf Wagner von E-Lyte Innovation.Er gibt spannende Einblicke in die Gründungsgeschichte von E-Lyte und die Entwicklung leistungsstarker Elektrolyte für moderne Energiespeicher. Um die Anforderungen an Temperaturfenster, Leistungsdichte und Sicherheit zu erfüllen, entwickelt E-Lyte maßgeschneiderte Lösungen – ein hochaktuelles Thema für alle Tech- und Deeptech-Begeisterten.Ebenfalls vor Ort: Hubertus Scherbarth von Resolvio.Resolvio kombiniert juristisches, technisches und sicherheitsrelevantes Know-how, um Entscheidungsprozesse in Unternehmen zu digitalisieren. Die Plattform von Resolvio bildet Gremienarbeit, Corporate Governance und Compliance rechtssicher und effizient ab – ein innovativer Ansatz für alle, die digitale Unternehmensführung neu denken.st auf Austausch im lokalen Startup-Ökosystem haben.Hier geht´s Zur Anmeldung


END:VEVENT
END:VCALENDAR
    