BEGIN:VCALENDAR
VERSION:2.0
PRODID:-//WP EVENT Manager Ical//NONSGML Events //EN
CALSCALE:GREGORIAN

BEGIN:VEVENT

DTSTART:20230209T170000PMZ
DTEND:20230209T210000PMZ
LOCATION:Business + Innovation Center
SUMMARY:Startup Stammtisch
DESCRIPTION:!ANMELDEN MÜSST IHR EUCH AUF DER Gipfelsprint Webseite!Am 09.02.2023 ab 18 Uhr findet gemeinsam mit dem Ideenwald, Startup Gate e.V., der Innovationsbühne, Startup Westpfalz e.V. und dem bic der “Startup Stammtisch Kaiserslautern“ ein.Der Stammtisch ist eine Networking-Veranstaltung für Startups und Startup-Interessierte aus der Region. Ziel der Veranstaltung ist es euch zusammenzubringen, die Möglichkeit zu geben ein eigenes Netzwerk aufzubauen und die verschiedenen Angebote an Startups kennenzulernen.Wo? Business + Innovation Center, Trippstadter Str. 110, 67663 Kaiserslautern


END:VEVENT
END:VCALENDAR
    