BEGIN:VCALENDAR
VERSION:2.0
PRODID:-//WP EVENT Manager Ical//NONSGML Events //EN
CALSCALE:GREGORIAN

BEGIN:VEVENT

DTSTART:20221109T173000PMZ
DTEND:20221109T193000PMZ
LOCATION:Café & Restaurant ClassicX, 55459 Grolsheim, Zur Galeria 1
SUMMARY:Stammtisch Mitte im ClassicX in Grolsheim
DESCRIPTION:!!!ANMELDUNG NUR AUF DER WEBSEITE DES Fahrzeug-Initiative Rheinland-Pfalz e.V. MÖGLICH!!!Am 9. November 2022 vob 18:30 – 20:30 Uhr findet in Grolsheim der Stammtisch Mitte im ClassicX statt.Willkommen sind auch Nichtmitglieder von Unternehmen, Instituten, Forschungseinrichtungen und Organisationen der Automobil- und Zulieferbranche.


END:VEVENT
END:VCALENDAR
    