BEGIN:VCALENDAR
VERSION:2.0
PRODID:-//WP EVENT Manager Ical//NONSGML Events //EN
CALSCALE:GREGORIAN

BEGIN:VEVENT

DTSTART:20221013T170000PMZ
DTEND:20221013T210000PMZ
LOCATION:Event Space, 5. Stock, Zollamtstr. 11, 67663 Kaiserslautern
SUMMARY:Startup Stammtisch
DESCRIPTION:!ANMELDEN MÜSST IHR EUCH AUF DER Gipfelsprint Webseite!Am 13.10.2022 ab 18 Uhr findet gemeinsam mit dem Ideenwald, Startup Gate e.V., der Innovationsbühne, Startup Westpfalz e.V. und dem bic der “Startup Stammtisch Kaiserslautern“ ein.Der Stammtisch ist eine Networking-Veranstaltung für Startups und Startup-Interessierte aus der Region. Ziel der Veranstaltung ist es euch zusammenzubringen, die Möglichkeit zu geben ein eigenes Netzwerk aufzubauen und die verschiedenen Angebote an Startups kennenzulernen.Wo? Event Space, 5. Stock, Zollamtstr. 11, 67663 Kaiserslautern 


END:VEVENT
END:VCALENDAR
    