BEGIN:VCALENDAR
VERSION:2.0
PRODID:-//WP EVENT Manager Ical//NONSGML Events //EN
CALSCALE:GREGORIAN

BEGIN:VEVENT

DTSTART:20231108T130000PMZ
DTEND:20231108T140000PMZ
LOCATION:Online
SUMMARY:Wie schütze ich meine Idee – Erfolgsfaktor Schutzrechte
DESCRIPTION:Dieser Online-Workshop ist Teil einer Veranstaltungsreihe  „Stolpersteine im Startup-Dschungel“, zusammen mit den Gründungsbüros aus Rheinland-Pfalz und dem Saarland.In dieser spannenden Veranstaltungsreihe werden herausragende Expert*innen aus vielfältigen Unternehmensbereichen ihr geballtes Wissen teilen. Ihr Ziel: Euch mit wertvollen Ratschlägen ausstatten, damit ihr bei eurem Unternehmensstart souverän agieren könnt.Die Teilveranstaltung &#8222;Wie schütze ich meine Idee – Erfolgsfaktor Schutzrechte&#8220; führen wir gemeinsam mit dem Paten- und Informationsamt Rheinland-Pfalz durch. Nutzt die Chance und stelle eure Fragen, füllt Wissenslücken und erfahrt wann, welches Patents sinnvoll und möglich ist, damit eure Idee auch eure bleibt! 


END:VEVENT
END:VCALENDAR
    