BEGIN:VCALENDAR
VERSION:2.0
PRODID:-//WP EVENT Manager Ical//NONSGML Events //EN
CALSCALE:GREGORIAN

BEGIN:VEVENT

DTSTART:20240111T090000AMZ
DTEND:20240111T150000PMZ
LOCATION:Online
SUMMARY:Workshop positive Fehlerkultur
DESCRIPTION:Besserer Umgang mit menschlicher Unvollkommenheit!Am&nbsp;11.01.2023&nbsp;ab 10 Uhr&nbsp;findet gemeinsam mit der Techniker Krankenkasse der Workshop “Fehlerkultur &#8211; Besserer Umgang mit menschlicher Unvollkommenheit!“ statt. Erfahrt, was Fehlerkultur wirklich bedeutet und wie ihr sie in eurem Unternehmen umsetzen können. In unserem Workshop lernt ihr den Umgang mit Fehlern, die Kontrolle interner Fehlermeldungen und die 8-D-Methode zur Problemlösung.Es erwartet euch fachtheoretischer Input, Übungen am Modell, Diskussionen und Gruppenarbeit! Entdeckt so die Auswirkungen einer guten Fehlerkultur auf eine gesunde Führungskultur und lernt, besser mit menschlicher Unvollkommenheit umzugehen.Sichert euch die letzten Plätze und meldet euch schnell an!


END:VEVENT
END:VCALENDAR
    