BEGIN:VCALENDAR
VERSION:2.0
PRODID:-//WP EVENT Manager Ical//NONSGML Events //EN
CALSCALE:GREGORIAN

BEGIN:VEVENT

DTSTART:20221208T140000PMZ
DTEND:20221209T140000PMZ
LOCATION:Gipfellounge @ Gipfelsprint Kaiserslautern
SUMMARY:Nikohack
DESCRIPTION:!!!ANMELDUNG NUR AUF DER WEBSEITE des Nickohack MÖGLICH!!!Stelle ab 08.12.22 15 Uhr 24h lang zusammen mit anderen Teams eine kreative Lösung für aktuelle Probleme der Mobilitätswende auf die Beine.Neben Spaß, netten Leuten und spannenden Themen warten auf die Gewinnerteams natürlich auch noch tolle Preise, die von unserer Experten-Jury verliehen werden!


END:VEVENT
END:VCALENDAR
    