BEGIN:VCALENDAR
VERSION:2.0
PRODID:-//WP EVENT Manager Ical//NONSGML Events //EN
CALSCALE:GREGORIAN

BEGIN:VEVENT

DTSTART:20251028T130000PMZ
DTEND:20251028T140000PMZ
LOCATION:Online
SUMMARY:Mit SocialPizza erklärt: Versicherungen für Selbstständige
DESCRIPTION:Du startest gerade dein erstes Business oder trittst in die Selbständigkeit ein?Dann ist das hier genau der richtige Workshop für dich!Mit dem SocialPizza-Team der Techniker Krankenkasse stellen wir euch die Basics der Sozialversicherung vor, die beginnende Unternehmer*innen brauchen, um sicher in ihre Selbstständigkeit zu starten!Im Workshop erfahrt ihr alles rund um Versicherungen, Beitragswesen, Meldung und Einstellung von Mitarbeitenden und Praktikant*innen.Die Inhalte sind nach den verschiedenen Phasen einer Selbstständigkeit, wie unterschiedliche Stücke Pizza, sortiert.Ihr könnt euch bis zum 25.10. anmelden.


END:VEVENT
END:VCALENDAR
    