BEGIN:VCALENDAR
VERSION:2.0
PRODID:-//WP EVENT Manager Ical//NONSGML Events //EN
CALSCALE:GREGORIAN

BEGIN:VEVENT

DTSTART:20250308T140000PMZ
DTEND:20250308T180000PMZ
LOCATION:hey olive studio, Kaiserslautern
SUMMARY:International Women’s Day Party
DESCRIPTION:Feiere mit uns den Internationalen Weltfrauentag am 08. März 2025!Lasst uns gemeinsam die Stärke, Vielfalt und Einzigartigkeit aller Frauen feiern.Ladet die Frauen in eurem Leben ein. Ob Freundin, Schwester, Kollegin, Geschäftspartnerin, Mutter oder Tochter – dieser Tag gehört euch allen.Von Frau zu Frau: Wir unterstützen, inspirieren und motivieren uns gegenseitig. Gemeinsam meistern wir Herausforderungen, wachsen über uns hinaus und stehen für mehr Sichtbarkeit und Erfolg.Euch erwartet eine inspirierende Keynote zum Thema Sichtbarkeit mit Performance Coach Eva Klein – ein Thema, das uns alle bewegt. Bei der Business Open Stage habt ihr die Möglichkeit, euch und euer Business vorzustellen. Hochkarätiges Networking bietet euch die Chance, wertvolle Kontakte zu knüpfen und euer Netzwerk zu erweitern. Für das leibliche Wohl sorgen genussvolle Kleinigkeiten von Der Bauer Bäcker.Die Anmeldung erfolgt nicht über die Website des Gründungsbüros! Bitte registriert euch HIER.


END:VEVENT
END:VCALENDAR
    