BEGIN:VCALENDAR
VERSION:2.0
PRODID:-//WP EVENT Manager Ical//NONSGML Events //EN
CALSCALE:GREGORIAN

BEGIN:VEVENT

DTSTART:20251029T150000PMZ
DTEND:20260115T180000PMZ
LOCATION:Schoenstraße 11, 67659 Kaiserslautern
SUMMARY:Innovative Thinker – Zertifikatskurs 2025
DESCRIPTION:Am 29. Oktober startet die neue Veranstaltungsreihe des Innovative Thinker-Zertifikatskurses. Die Workshops finden am neuen Laborgebäude der Hochschule Kaiserslautern statt.Termine & Themen 2025/2026DatumUhrzeitThemaReferent*inMi 29.10.202516:00 – 19:00 UhrKreativitätstechnikenChristian ThurnesMi 19.11.202514:00 – 17:00 UhrDesign Thinking BasicsNatascha MöllerDo 04.12.202516:00 – 19:00 UhrGeschäftsmodellentwicklungChristian ThurnesDo 11.12.202516:00 – 19:00 UhrPrototyping mit LEGO®Christian ThurnesDo 08.01.202614:00 – 17:00 UhrCrowdfunding + PitchBernhard LorigDo 15.01.202617:00 – 19:00 UhrGeht nicht? – Doch!Christian Thurnes🔗 Weitere Informationen: Innovative Thinker


END:VEVENT
END:VCALENDAR
    