BEGIN:VCALENDAR
VERSION:2.0
PRODID:-//WP EVENT Manager Ical//NONSGML Events //EN
CALSCALE:GREGORIAN

BEGIN:VEVENT

DTSTART:20221213T150000PMZ
DTEND:20230309T180000PMZ
LOCATION:Online, Zweibrücken oder Kaiserslautern
SUMMARY:„Innovative Thinker 2.0“ Veranstaltungsreihe
DESCRIPTION:Lerne neue Skills und entwicklt Euch weiter!&#8222;Innovativ&#8220; bedeutet etwas Neues zu kreieren oder etwas Bestehendes zu erneuern, sodass Mehrwert geschaffen wird. Aber wie findet man heraus, welche Zustände eine Innovation benötigt, wie Probleme gelöst werden und wie man seine Lösungen sichtbar darstellt?Genau mit diesen Fragen beschäftigt sich unsere Veranstaltungsreihe &#8222;Innovative Thinker&#8222;. Folgende Workshops stehen auf dem Programm und gehen jeweils von 16:00 bis 19:00 Uhr:&nbsp;27.10.2022Do.KreativitätstechnikenJane SchekOnline08.11.2022Di.Design Thinking Ilmer & WalthelmOnline13.12.2022Di.Was Kund*innen wollenIlmer & WalthelmOnline19.01.2023Do.Prototyping mit LEGO®-Materialien und –MethodenThurnesZweibrücken17.02.2023Fr.GeschäftsmodellentwicklungThurnesOnline09.03.2023Do.Präsentationscoaching   Ilmer & WalthelmKaiserslauternBesucht vier der sechs angebotenen Workshops und erhaltet von uns ein Zertifikat.Eure Anmeldung bezieht sich auf die komplette Veranstaltungsreihe, falls Ihr nur einen Teil besuchen möchtet, schreibt uns im Anschluss gerne eine Mail an frank.walthelm@hs-kl.de Die Anmeldefrist geht bis zum 30.09.2022 und die Veranstaltungsreihe richtet sich an Studis der Hochschule & TU Kaiserslautern.Sollte die Veranstaltung ausgebucht sein, könnt ihr Euch unter moeller@gruendungsbuero.info für die Warteliste anmelden. &nbsp;&nbsp;&nbsp;&nbsp;


END:VEVENT
END:VCALENDAR
    