BEGIN:VCALENDAR
VERSION:2.0
PRODID:-//WP EVENT Manager Ical//NONSGML Events //EN
CALSCALE:GREGORIAN

BEGIN:VEVENT

DTSTART:20230125T230000PMZ
DTEND:20230227T230000PMZ
LOCATION:Online
SUMMARY:Ideenwettbewerb Rheinland-Pfalz
DESCRIPTION:!!!ANMELDEN MÜSST IHR EUCH AUF DER&nbsp;Webseite ideenwettbewerb-rlp!!!Der Ideenwettbewerb Rheinland-Pfalz bietet allen Rheinland-Pfälzer*innen&nbsp;eine Plattform zur Präsentation ihrer Ideen. Dazu gehören Produkte, Dienstleistungen oder Verfahren, die innovativ sind, bestehende Ideen signifikant weiterentwickeln oder die es in dieser Art und Weise noch nicht gibt. Eine unabhängige Jury bewertet die eingereichten Ideen.Gemeinsam mit verschiedenen Stifter*innen, Partner*innen&nbsp;und Förderer*innen&nbsp;werden die besten Ideen mit attraktiven Geld- und Sachpreisen prämiert.


END:VEVENT
END:VCALENDAR
    