BEGIN:VCALENDAR
VERSION:2.0
PRODID:-//WP EVENT Manager Ical//NONSGML Events //EN
CALSCALE:GREGORIAN

BEGIN:VEVENT

DTSTART:20221116T100000AMZ
DTEND:20221116T113000AMZ
LOCATION:Online
SUMMARY:Gründungen durch Frauen – Ergebnisse Global Entrepreneurship Monitor und Female Founders Report
DESCRIPTION:!!!ANMELDUNG NUR AUF DER WEBSEITE DER RKW Kompetenzzentrum MÖGLICH!!!Am 16. November 2022&nbsp;von 11:00 bis 12:30 Uhr präsentieren und diskutieren das&nbsp;RKW Kompetenzzentrum, das Institut für Wirtschafts- und Kulturgeographie der Gottfried Wilhelm Leibniz Universität Hannover und der Bundesverband Deutsche Startups e.V.&nbsp;in einer&nbsp;Online-Veranstaltung&nbsp;Ergebnisse des&nbsp;Global Entrepreneurship Monitors&nbsp;(GEM) und des&nbsp;Female Founders Reports&nbsp;rund um das Thema&nbsp;Gründungen durch Frauen.&nbsp;Ziel des Events ist es, Impulse und Handlungsempfehlungen zu entwickeln, wie die Rahmenbedingungen so angepasst werden können, dass künftig die Zahl der Unternehmensgründungen und Unternehmensnachfolgen durch Frauen in Deutschland noch gesteigert werden kann. Ebenso soll erörtert werden, welche Bausteine für innovative zukunftsfähige Geschäftsmodelle elementar sind – Stichwort „Nachhaltiges Wirtschaften“.


END:VEVENT
END:VCALENDAR
    