BEGIN:VCALENDAR
VERSION:2.0
PRODID:-//WP EVENT Manager Ical//NONSGML Events //EN
CALSCALE:GREGORIAN

BEGIN:VEVENT

DTSTART:20221103T100000AMZ
DTEND:20221103T160000PMZ
LOCATION:Hochschule Kaiserslautern, Campus Kaiserslautern Kammgarn
SUMMARY:Firmenkontaktmesse FiKoM an der Hochschule Kaiserslautern
DESCRIPTION:!!!ANMELDUNG NUR AUF DER WEBSEITE DES Business + Innovation Center Kaiserslautern GmbH MÖGLICH!!!Maria Beck wird am 3. November 2022 mit einem Infostand bei der Firmenkontaktmesse der Hochschule Kaiserslautern vertreten sein und alle Fragen zur Existenzgründung, Weiterbildung und Chancen im bic beantworten und Euch über unsere laufenden Projekte für Startups, Gründer*innen  informieren. 


END:VEVENT
END:VCALENDAR
    