BEGIN:VCALENDAR
VERSION:2.0
PRODID:-//WP EVENT Manager Ical//NONSGML Events //EN
CALSCALE:GREGORIAN

BEGIN:VEVENT

DTSTART:20230126T153000PMZ
DTEND:20230126T180000PMZ
LOCATION:Online
SUMMARY:Eigene Ideen mit der Crowd realisieren
DESCRIPTION:!ANMELDEN MÜSST IHR EUCH AUF DER  Webseite der Universität Mainz!Am 26.01.2023 von 16:30 &#8211; 19 Uhr findet gemeinsam mit dem Startup Center der Universität Mainz ein Workshop zum Thema&#8220; Eigene Ideen mit der Crowd realisieren&#8220; statt.Der Workshop vermittelt folgende Kenntnisse und Skills:• die verschiedenen Arten des Crowdfundings und was unbedingt zu beachten ist, wenn man eine eigene Kampagne starten möchte• die Grundlagen für eine eigene erfolgreiche Kampagne schaffenDer Workshop findet online statt. 


END:VEVENT
END:VCALENDAR
    