BEGIN:VCALENDAR
VERSION:2.0
PRODID:-//WP EVENT Manager Ical//NONSGML Events //EN
CALSCALE:GREGORIAN

BEGIN:VEVENT

DTSTART:20230323T160000PMZ
DTEND:20230323T180000PMZ
LOCATION:Online
SUMMARY:Crowdfunding im Rahmen „Gründen auf dem Land“
DESCRIPTION:!!!!ANMELDUNG NUR  PER MAIL MÖGLICH!!!!Die Idee hinter Crowdfunding ist einfach: Viele Menschen (crowd) finanzieren (fund) gemeinsam eineIdee, ein Projekt oder ein Unternehmen. Diese Art der Finanzierung bietet aber weit mehr als den reinmonetären Vorteil.In diesem Workshop werdet ihr mehr über die verschiedenen Arten des Crowdfundings erfahren. Insbesondere darüber, was unbedingt zu beachten ist, wenn man eine eigene Kampagne starten möchte.Damit werdet ihr die Grundlagen für eigene erfolgreiche Kampagnen schaffen.Alle Angemeldeten erhalten zur Vorbereitung auf den Workshop die Zugangsdaten zu einem Crowdfunding-Videotutorial sowie die Zugangsdaten zum Online-Workshop. Anmeldeschluss ist derMärz 2023. Die Teilnahme ist kostenlos.!!!Anmeldung!!!: Christina Kirst, Wirtschaftsförderungsgesellschaft Vulkaneifel mbHTelefon: 06592 933-200 · E-Mail: christina.kirst@wfg-vulkaneifel.deMatthias Denis, Wirtschaftsförderung des Landkreises Bernkastel-WittlichTelefon: 06571 14-2494 · E-Mail: wirtschaftsfoerderung@bernkastel-wittlich.deFalko Fischer, Wirtschaftsförderung des Landkreis Cochem-ZellTelefon: 02671 61-682 · E-Mail: wirtschaftsfoerderung@cochem-zell.de


END:VEVENT
END:VCALENDAR
    