BEGIN:VCALENDAR
VERSION:2.0
PRODID:-//WP EVENT Manager Ical//NONSGML Events //EN
CALSCALE:GREGORIAN

BEGIN:VEVENT

DTSTART:20221114T083000AMZ
DTEND:20221116T153000PMZ
LOCATION:TU Kaiserslautern
SUMMARY:bonding Firmenkontaktmesse Kaiserslautern
DESCRIPTION:!!!ANMELDUNG NUR AUF DER WEBSEITE VON bonding MÖGLICH!!!Die bonding Firmenkontaktmesse Kaiserslautern ist die größte in Kaiserslautern von Studenten organisierte Veranstaltung dieser Art und findet am 14. bis 16. November 2022 an der TU Kaiserslautern statt.


END:VEVENT
END:VCALENDAR
    