BEGIN:VCALENDAR
VERSION:2.0
PRODID:-//WP EVENT Manager Ical//NONSGML Events //EN
CALSCALE:GREGORIAN

BEGIN:VEVENT

DTSTART:20241126T090000AMZ
DTEND:20241126T100000AMZ
LOCATION:Online
SUMMARY:Better World Meeting November
DESCRIPTION:Auch im November trifft sich die Better World Community, um sich auszutauschen, sich besser kennenzulernen und voneinander zu lernen!am 26. November wird Harald Prokscha von WEITERGEBEN.ORG einen spannenden Impuls dazu geben, wie sie als einzige Organisation in Europa alten Schulmöbeln ein neues Leben verschaffen und was sie dabei so begeistert! Außerdem können wir Petra Moske von NESTWÄRME e.V. begrüßen, die von ihrer brandaktuellen Studie zu Wirkungsmessung berichten wird! Zudem wird es brandaktuelle Neuigkeiten von der Mitgliederversammlung vom Social Entrepreneurship Netzwerk, SEND e.V. geben. Wenn ihr wissen wollt, was es zu Sozialen Innovationen und gemeinwohlorientiertem Unternehmertum in Deutschland, besonders in Rheinland-Pfalz & Saarland Neues gibt, dann meldet euch an.Wir freuen uns auf den Austausch 🙂


END:VEVENT
END:VCALENDAR
    