BEGIN:VCALENDAR
VERSION:2.0
PRODID:-//WP EVENT Manager Ical//NONSGML Events //EN
CALSCALE:GREGORIAN

BEGIN:VEVENT

DTSTART:20240827T090000AMZ
DTEND:20240827T100000AMZ
LOCATION:Online
SUMMARY:Better World meeting August
DESCRIPTION:mit Lena Bücker / Weciety & Impact Hub HamburgHast du dich auch schon gefragt, in welcher Gesellschaft du eigentlich leben möchtest? Jetzt hast du die Gelegenheit, aktiv mitzugestalten!Lena Bücker wird von ihrer Initiative WECIETY und ihrer Arbeit im Impact Hub Hamburg berichten und mit uns diskutieren, wie wir die Gesellschaft schaffen können, die wir alle wollen.IHR könnt dabei sein, meldet euch ganz einfach über den folgenden Link dazu an: https://gruendungsbuero.info/better-world-community-anmeldung/Die Treffen der BETTER WORLD Community finden jeden Monat einmal statt, jedes Mal mit einem neuen spannenden Impuls, meldet euch an werdet Teil der Community und diskutiert mit uns, wie wir in Rheinland-Pfalz Saarland einen Beitrag zu sozialen Innovationen und unser aller Gemeinwohl leisten können.Mehr Informationen über die Community findet ihr unter https://www.better-world-community.de 


END:VEVENT
END:VCALENDAR
    