BEGIN:VCALENDAR
VERSION:2.0
PRODID:-//WP EVENT Manager Ical//NONSGML Events //EN
CALSCALE:GREGORIAN

BEGIN:VEVENT

DTSTART:20230215T160000PMZ
DTEND:20230215T180000PMZ
LOCATION:bic
SUMMARY:1,2,3 GO: Auftakt und Kennenlernrunde 2022/2023
DESCRIPTION:!!!!ANMELDUNG NUR AUF DER bic Webseite MÖGLICH!!!!Die Veranstaltung findet am 15.02.2023 um 17:00 im Business + Innovation Center Kaiserslautern statt. Auftakt zur neuen Runde 1,2,3 GO-Businessplan-Wettbewerb in Rheinland-Pfalz.Eingeladen sind Gründerinnen und Gründer mit innovativen Geschäftsideen, sowie Coaches und Juroren.Das Programm:17:00 UhrBegrüßungDr. Stefan Weiler, Geschäftsführer – Business + Innovation Center Kaiserslautern GmbH (bic)17:05 Uhr1,2,3 GO in Rheinland-PfalzVideogruß der Staatssekretärin Daniela Schmitt, Ministerium für Wirtschaft, Verkehr, Landwirtschaft und Weinbau Rheinland-Pfalz17:10 UhrVideoimpressionen von der Preisübergabe 2021/22Kurzinterviews der 1,2,3 GO Sieger17:15 Uhr1,2,3 GO – Der Parcours 2022/23Vorstellung des Teams sowie der Homepage „123go-networking.de“17:25 UhrVorstellung der Unterstützer und CoachesVorstellung der Teilnehmer*innen


END:VEVENT
END:VCALENDAR
    