BEGIN:VCALENDAR
VERSION:2.0
PRODID:-//WP EVENT Manager Ical//NONSGML Events //EN
CALSCALE:GREGORIAN

BEGIN:VEVENT

DTSTART:20221110T160000PMZ
DTEND:20221110T180000PMZ
LOCATION:IHK Saarland, 66119 Saarbrücken, Franz-Josef-Röder-Straße
SUMMARY:1,2,3 GO Abschlussveranstaltung
DESCRIPTION:!!!ANMELDUNG NUR AUF DER WEBSEITE DES Business + Innovation Center Kaiserslautern GmbH MÖGLICH!!!Die diesjährige Abschlussveranstaltung des 1,2,3 GO Wettbeewerbs findet&nbsp;am 10. November von 17 bis 19 Uhr in Saarbrücken statt. Bei dieser Veranstaltung werden die jeweils drei besten eingereichten Businesspläne aus Rheinland-Pfalz und dem Saarland prämiert.


END:VEVENT
END:VCALENDAR
    