BEGIN:VCALENDAR
VERSION:2.0
PRODID:-//wp-events-plugin.com//7.2.1//EN
BEGIN:VEVENT
UID:33@gruendungsbuero.info
DTSTART:20260830T230000Z
DTEND:20260830T230000Z
DTSTAMP:20251211T114350Z
URL:https://gruendungsbuero.info/events/summerschool-2026/
SUMMARY:SummerSchool 2026
DESCRIPTION:SummerSchool 2026\n\nSummerSchool 2026 - Von der Idee zum Konze
 pt im kreativen Ambiente. Du hast eine Idee\, an der Du intensiv arbeiten 
 möchtest oder strebst bereits die Selbstständigkeit an? Wir unterstütze
 n Dich dabei! Hier wird aus deiner Idee Schritt für Schritt ein tragfähi
 ges Konzept! Von Montag\, den 31. August bis Freitag\, den 04. September 2
 026 hast Du die einzigartige Chance\, Deine Idee eine ganze Woche lang st
 rukturiert und unter der Anleitung von Experten auszuarbeiten. Die Lerninh
 alte werden dabei von den Referenten der SummerSchool nach dem "Learning b
 y doing" - Prinzip vermittelt. Du erarbeitest Dir die Inhalte unter Anleit
 ung von erfahrenen Profis und wendest sie direkt auf Deine Idee an. So wir
 d aus Deiner ganz persönlichen Vision ein nachhaltiges Konzept.In zwei Ab
 endveranstaltungen hast Du die Gelegenheit\, mit Deiner Idee die Vertreter
  der Hochschulleitungen und bereits erfolgreichen Gründer*innen zu begeis
 tern und wertvolles Feedback oder vielleicht sogar Untersützer*innen zu e
 rhalten. Für Pausen und das leibliche Wohl wird natürlich ebenfalls geso
 rgt.ACHTUNG: Eure "Teilnahme" bedeutet\, dass ihr euch für die SummerScho
 ol bewerbt\, wir haben nur ein begrenztes Kontingent. Bewerben können sic
 h alle\, die sich für eine Gründung interessieren\, ob mit eigener Idee 
 oder noch ohne.Als Veranstaltung der RPTU&amp\;HS Kaiserslautern haben ent
 sprechend Studierende\, Mitarbeitende und Alumni der RPTU und HS Kaisersla
 utern ein Vorgriffsrecht auf die 20 zur Verfügung stehenden Plätze. Wir 
 werden dich im August informieren\, ob es mit deiner Teilnahme klappt. Fü
 r unsere SummerSchool gibt es eine Bildungsfreistellung\, sodass du Bildun
 gsurlaub beantragen kannst. Noch ein wichtiger Hinweis: Die SummerSchool f
 indet auf Deutsch statt. Das bedeutet\, dass alle Impulsvorträge\, deine 
 Präsentationen sowie das Feedback dazu auf Deutsch sind und du über die 
 notwendigen Sprachkenntnisse verfügen musst.\n
ATTACH;FMTTYPE=image/jpeg:https://gruendungsbuero.info/app/uploads/2025/11
 /summerschoox.png
CATEGORIES:Gründungsbüro
END:VEVENT
END:VCALENDAR