BEGIN:VCALENDAR
VERSION:2.0
PRODID:-//wp-events-plugin.com//7.2.1//EN
BEGIN:VEVENT
UID:48@gruendungsbuero.info
DTSTART:20260325T160000Z
DTEND:20260325T180000Z
DTSTAMP:20260312T135856Z
URL:https://gruendungsbuero.info/events/startup-stammtisch-landau-2/
SUMMARY:Startup Stammtisch Landau
DESCRIPTION:Startup-Stammtisch Landau\nAm 25.03.2026 geht der Startup-St
 ammtisch Landau in die erste Runde des Jahres – und du bist herzlich ei
 ngeladen! Von 17:00 bis 19:00 Uhr treffen wir uns im Ruderclub Landau 
 (Husarengasse 6) für kurze Impulse\, gute Gespräche und entspanntes Netw
 orking mit Gründer:innen\, Gründungsinteressierten und allen\, die Lust 
 auf Austausch haben.\nDiesmal mit zwei starken Inputs:\nDr. Dipl.-Psych. N
 adine Thomas (Arbeits- &amp\; Organisationspsychologin)\n„Alleine gegrü
 ndet? Aber von wegen solo!“ Nadine zeigt\, welche inneren Rollen uns b
 eim Gründen begleiten – und warum es je nach Phase wichtig ist\, sie be
 wusst neu zu sortieren. Mit dem Modell des „Inneren Teams“ nach Schul
 z von Thun verbindet sie persönliches Wachstum mit unternehmerischer Ent
 wicklung.\nOliver Morbach (Geschäftsführer der Pro.q.it Management Consu
 lting GmbH und Partner der Evolution Alliance) erklärt\, wie aus Forschun
 g eine Geschäftsidee wird\, die Investoren überzeugt. Anhand eines Biote
 ch-Start-ups zeigt er\, wie Teams ihre Idee Schritt für Schritt testen\, 
 verbessern und so aufbereiten\, dass Investoren das Potenzial klar erkenne
 n können. Visualisierungen wie Radar-Grafiken und Dashboards helfen dabei
 \, den Fortschritt sichtbar zu machen.“\nWie immer gilt: Studierende\, 
 Doktorand:innen\, Selbstständige und alle Gründungsinteressierten sind 
 willkommen. Wir freuen uns auf spannende Vorträge und einen Abend mit vie
 l Austausch und Netzwerken!
ATTACH;FMTTYPE=image/jpeg:https://gruendungsbuero.info/app/uploads/2026/02
 /2026_Startup_Stammtisch_Landau_1024x768_px_website.png
CATEGORIES:Gründungsbüro
LOCATION:Ruderclub Landau\, Husarengasse 6\, Landau\, 76829\, Deutschland
X-APPLE-STRUCTURED-LOCATION;VALUE=URI;X-ADDRESS=Husarengasse 6\, Landau\, 7
 6829\, Deutschland;X-APPLE-RADIUS=100;X-TITLE=Ruderclub Landau:geo:0,0
END:VEVENT
END:VCALENDAR