BEGIN:VCALENDAR
VERSION:2.0
PRODID:-//wp-events-plugin.com//7.2.1//EN
BEGIN:VEVENT
UID:37@gruendungsbuero.info
DTSTART:20260130T090000Z
DTEND:20260130T120000Z
DTSTAMP:20260126T133202Z
URL:https://gruendungsbuero.info/events/shetalks/
SUMMARY:sheTalks
DESCRIPTION:sheTALKS! Trau dich\, denk groß! Dein Weg in die Unabhängigke
 it\nDie Online-Veranstaltung ist Teil der sheTALKS! Summit-Reihe und richt
 et sich an Frauen\, die beruflich weiter wollen\, neue Perspektiven suchen
  oder den nächsten mutigen Schritt gehen möchten – ganz gleich\, ob si
 e sich neu orientieren\, ihre Stärken schärfen oder eigene Projekte verw
 irklichen wollen.\nFreu dich auf die Keynote von Marietta Gädeke\, Untern
 ehmerin\, Buchautorin und Expertin für Kommunikation und strategische Emp
 athie. Ergänzt wird das Programm durch vier Impulsräume zu Themen wie Id
 eenfindung\, Sichtbarkeit\, Kommunikation\, Mindset\, Motivation und konkr
 ete Strategien für eigene Projekte. Praxisnah\, stärkend und individuell
  wählbar.\nMit dabei sind u. a. Dagmar Chrobok-Dohmann\, Silke Freudenber
 g\, Heike Eberle\, Obiageli Njoku\, Nicole Schelter\, Barbara Baratie\, Ga
 by Schramm und Isabell Reinecke.\nHier geht´s Zur Anmeldung\n
ATTACH;FMTTYPE=image/jpeg:https://gruendungsbuero.info/app/uploads/2026/01
 /shetalks_1024x768_nondistorted.jpg
CATEGORIES:Partnerevent
LOCATION:https://eveeno.com/320736508
END:VEVENT
END:VCALENDAR