BEGIN:VCALENDAR
VERSION:2.0
PRODID:-//wp-events-plugin.com//7.2.1//EN
BEGIN:VEVENT
UID:52@gruendungsbuero.info
DTSTART:20260317T140000Z
DTEND:20260317T160000Z
DTSTAMP:20260312T122842Z
URL:https://gruendungsbuero.info/events/regional-partner-perspektiven/
SUMMARY:Regional Partner & Perspektiven
DESCRIPTION:Regionale Partner &amp\; Perspektiven-ZRW-Mitglieder im Fokus\n
 Im Rahmen der Veranstaltungsreihe „Regionale Partner &amp\; Perspektiven
 “ lädt die Hochschule Kaiserslautern herzlich zur Besichtigung des neue
 n Labor- und Werkstattgebäudes ein. Die Veranstaltung bietet Unternehmen\
 , Institutionen und Interessierten aus der Region eine besondere Gelegenhe
 it\, einen Blick hinter die Kulissen der modernen Forschungs- und Ausbildu
 ngsinfrastruktur der Hochschule zu werfen.\nWährend der Führung erhalten
  die Besucher exklusive Einblicke in hochmoderne Labore und technische Ein
 richtungen\, darunter das Hochspannungslabor\, den Windkanal sowie einen s
 challtoten Raum. Fachkundige Mitarbeiterinnen und Mitarbeiter stellen die 
 jeweiligen Labore vor\, erläutern ihre technischen Möglichkeiten und geb
 en Einblicke in aktuelle Forschungsprojekte sowie in die praktische Ausbil
 dung der Studierenden.\nHIER könnt ihr mehr erfahren.\n
ATTACH;FMTTYPE=image/jpeg:https://gruendungsbuero.info/app/uploads/2026/03
 /lab_1024x768.jpg
CATEGORIES:Partnerevent
LOCATION:Laborgebäude der Hochschule Kaiserslautern\, Morlauterer Straße\
 , Kaiserslautern\, Rheinland-Pfalz\, 67663\, Deutschland
X-APPLE-STRUCTURED-LOCATION;VALUE=URI;X-ADDRESS=Morlauterer Straße\, Kaise
 rslautern\, Rheinland-Pfalz\, 67663\, Deutschland;X-APPLE-RADIUS=100;X-TIT
 LE=Laborgebäude der Hochschule Kaiserslautern:geo:0,0
END:VEVENT
END:VCALENDAR