BEGIN:VCALENDAR
VERSION:2.0
PRODID:-//wp-events-plugin.com//7.2.1//EN
BEGIN:VEVENT
UID:26@gruendungsbuero.info
DTSTART:20251104T080000Z
DTEND:20251104T150000Z
DTSTAMP:20251030T092703Z
URL:https://gruendungsbuero.info/events/marketing-workshop/
SUMMARY:Marketing Workshop
DESCRIPTION:             Marketing Workshop\nUm eine Gründung erfol
 greich und nachhaltig auf die Beine zu stellen\, bedarf es nicht nur einer
  guten Idee – diese muss auch als Produkt oder Dienstleistung auf den Ma
 rkt gebracht werden!\n\nDoch wie richtet Ihr Euer Produkt/Eure Dienstleist
 ung an den Bedürfnissen der Endverbraucher aus?\nWie überzeugt Ihr poten
 tielle Kund*innen\, ihr Geld für Euch und nicht die Konkurrenz auszugeben
 ?\nUnd wie macht Ihr auf Euch und Euer Startup aufmerksam?\n\nDie Antworte
 n auf diese und weitere Fragen liefern wir Euch und Ihr erfahrt alles übe
 r die aktuellen Themen aus dem Gründungsmarketing / Marketing und erstell
 t eine Marketing-Strategie für Euer Startup.\n\n&nbsp\;\n\n\n\n\n
ATTACH;FMTTYPE=image/jpeg:https://gruendungsbuero.info/app/uploads/2025/10
 /Marketing_Workshop_resized_1024x768.png
CATEGORIES:Gründungsbüro
LOCATION:e4-Lab\, Carl-Euler-Str. 56\, Kaiserslautern\, 67663\, Deutschland
X-APPLE-STRUCTURED-LOCATION;VALUE=URI;X-ADDRESS=Carl-Euler-Str. 56\, Kaiser
 slautern\, 67663\, Deutschland;X-APPLE-RADIUS=100;X-TITLE=e4-Lab:geo:0,0
END:VEVENT
END:VCALENDAR