BEGIN:VCALENDAR
VERSION:2.0
PRODID:-//wp-events-plugin.com//7.2.1//EN
BEGIN:VEVENT
UID:50@gruendungsbuero.info
DTSTART:20260521T130000Z
DTEND:20260521T180000Z
DTSTAMP:20260413T150202Z
URL:https://gruendungsbuero.info/events/highway-to-hightech/
SUMMARY:Highway to Hightech Tour 1
DESCRIPTION:Highway to Hightech 2026 - Tour 1\n***English Version below***\
 nDie Begrüßungsreden werden auf Englisch gehalten\, aber bei direkten Ne
 tworking-Gesprächen kannst du natürlicih auf Deutsch oder Englisch führ
 en.\n\nBegebt euch am 21.05.2026\, von 14 Uhr bis 19 Uhr auf den HighTech
 -Highway in Kaiserslautern 😉. Lernt auf der Bustour eure zukünftigen 
 ArbeitgeberInnen kennen oder lasst euch von Startups inspirieren euer eige
 nes Ding zu machen. Besucht mit uns verschiedene Institute\, Unternehmen u
 nd Startups und taucht in die Lauterer BusinessWelt ein. An jeder Haltstel
 len erwartet euch die Vorstellung der Einrichtungen und die Möglichkeit e
 uch zu vernetzen und Fragen zu stellen.\n\nDie Tour beginnt mit einem Get-
 together an der RPTU. Von dort aus fahren wir zunächst zum Fraunhofer Lei
 stungszentrum\, gefolgt von einem Besuch beim Business + Innovation Center
 . Anschließend geht es weiter zum Unternehmen Creonic\, bevor die Tour sc
 hließlich im 42kaiserslautern endet.\n\n14:00 - Treffpunkt RPTU\, Gebäud
 e 57\, Vorplatz\n14:30 - Leistungszentrum Simulations- und Software-basier
 te Innovation \nIm Leistungszentrum arbeiten Fraunhofer ITWM\, Fraunhofer 
 IESE\, DFKI und IVW in der angewandten Forschung zusammen\, um neue Techno
 logien in die industrielle Praxis zu überführen. Ihr erhaltet Einblicke 
 in ihre Arbeit\, in Jobmöglichkeiten und werft einen Blick hinter die Kul
 issen.\n15:45 - Business + Innovation Center\nHier lernt ihr zwei technolo
 giegetriebene Startups aus Kaiserslautern kennen:\nUneec: https://www.unee
 c.eu/\nSwis: https://swis-gmbh.de/de/home/\n17:00 - CREONIC\nDas Unternehm
 en ist eine Ausgründung aus der RPTU und entwickelt komplexe Signalverarb
 eitungsfunktionen für Kommunikationssysteme\, die unter anderem bei der N
 ASA Anwendung finden.\n18:15 - 42kaiserslautern\nEntdeckt Innovationen aus
  den Hochschulen\, Instituten und Unternehmen und erfahrt hier außerdem\,
  was hinter unserem Talent Pool steckt.\n\nNach diesem Tag voller neuer Ei
 ndrücke habt ihr vielleicht schon zukünftige ArbeitgeberInnen oder Prakt
 ikumsplätze im Blick - vielleicht hat sich auch die Vision einer Selbstst
 ändigkeit gefestigt! Wer weiß?! Auf jeden Fall konntet ihr durch diesen 
 Tag Kaiserslautern aus der Business-Perspektive kennenlernen.Für Verpfleg
 ung ist auf der ganzen Tour gesorgt. Registriert euch jetzt für die inno
 vativste Bustour der Westpfalz - die Tour wird in einigen Fachbereichen a
 ls Exkursion anerkannt\, fragt einfach bei uns nach.\n\n__________________
 __________________________________________________________________\nJoin u
 s on May 21\, 2026\, from 2:00 pm to 7:00 pm for the HighTech Highway in K
 aiserslautern 😉.\nThe welcoming speeches will be held in English\, but 
 during direct networking conversations\, you can speak in the language you
  are more comfortable with.\n\nGet to know your future employers on this b
 us tour—or get inspired by startups to launch your own venture. Together
 \, we’ll visit various institutes\, companies\, and startups\, giving yo
 u a deep dive into the business world of Kaiserslautern. At each stop\, yo
 u’ll get presentations\, opportunities to network\, and the chance to as
 k questions.\n\nThe tour begins with a get-together at RPTU. From there\, 
 we’ll head to the Fraunhofer Performance Center\, followed by a visit to
  the Business + Innovation Center. Next\, we’ll continue to the company 
 Creonic\, before ending the tour at 42kaiserslautern.\n2.00 pm - Treffpunk
 t RPTU\, Gebäude 57\, Vorplatz\n2.30 pm - High Performance Center Simulat
 ion and Software Based InnovationAt the Performance Center\, Fraunhofer IT
 WM\, Fraunhofer IESE\, DFKI\, and IVW collaborate on applied research to t
 ransfer new technologies into industrial practice. Join us to discover the
 ir work\, explore career opportunities and enjoy a behind-the-scenes look.
 \n3.45 pm - Business + Innovation CenterHere\, you’ll meet two technolog
 y-driven startups from Kaiserslautern:\nUneec: https://www.uneec.eu/\nSwis
 : https://swis-gmbh.de/de/home/\n5.00 pm - CREONICThis company is a spin-o
 ff from RPTU and develops complex signal processing functions for communic
 ation systems\, some of which are even used by NASA.\n6.15 pm - 42kaisersl
 auternDiscover innovations from universities\, institutes\, and companies
 —and learn more about what’s behind our talent pool.\nAfter a day full
  of new impressions\, you may already have potential employers or internsh
 ip opportunities in mind—or perhaps you’ve strengthened your vision of
  starting your own business. Either way\, you’ll have experienced Kaiser
 slautern from a whole new business perspective.\nFood and drinks will be p
 rovided throughout the tour.\nRegister now for the most innovative bus tou
 r in the West Palatinate—this tour is recognized as an excursion in some
  departments\, so feel free to ask us for details!\n______________________
 __________________________________________________________________________
 _______\nBegebt euch am 21.05.2026\, von 14 Uhr bis 19 Uhr auf den HighTe
 ch-Highway in Kaiserslautern 😉. Lernt auf der Bustour eure zukünftige
 n ArbeitgeberInnen kennen oder lasst euch von Startups inspirieren euer ei
 genes Ding zu machen. Besucht mit uns verschiedene Institute\, Unternehmen
  und Startups und taucht in die Lauterer BusinessWelt ein. An jeder Haltst
 ellen erwartet euch die Vorstellung der Einrichtungen und die Möglichkeit
  euch zu vernetzen und Fragen zu stellen.\n\nDie Tour beginnt mit einem Ge
 t-together an der RPTU. Von dort aus fahren wir zunächst zum Fraunhofer L
 eistungszentrum\, gefolgt von einem Besuch beim Business + Innovation Cent
 er. Anschließend geht es weiter zum Unternehmen Creonic\, bevor die Tour 
 schließlich im 42kaiserslautern endet.\n\n14:00 - Meeting point at RPTU\,
  Gebäude 57\, forecourt\n14:30 - Fraunhofer Leistungszentrum:\nVereint In
 stitute in Kaiserslautern und ist eng verbunden mit der wissenschaftlichen
  Nachwuchsförderung. Neben der Vorstellung von Jobmöglichkeiten erhaltet
  ihr eine Führung im Fraunhofer IESE.\n15:45 - Business + Innovation Cent
 er:\nDas bic wurde 1985 als erstes Technologiezentrum in Rheinland-Pfalz g
 egründet. Als Inkubator wird so der Raum und das Ökosystem geschaffen\, 
 in dem junge Firmen wachsen und gedeihen können. Hier lernt ihr zwei tech
 nologiegetriebene Startups aus Kaiserslautern kennen!\n17:00 - Creonic:\nD
 as Unternehmen ist eine Ausgründung aus der RPTU und entwickelt komplexe 
 Signalverarbeitungsfunktionen für Kommunikationssysteme\, die unter ander
 em bei der NASA Anwendung finden.\n18:15 - 42kaiserslautern:\nEntdeckt Inn
 ovationen aus den Hochschulen\, Instituten und Unternehmen und erfahrt hie
 r außerdem\, was hinter unserem Talent Pool steckt.\n\nNach diesem Tag vo
 ller neuer Eindrücke habt ihr vielleicht schon zukünftige ArbeitgeberInn
 en oder Praktikumsplätze im Blick - vielleicht hat sich auch die Vision e
 iner Selbstständigkeit gefestigt! Wer weiß?! Auf jeden Fall konntet ihr 
 durch diesen Tag Kaiserslautern aus der Business-Perspektive kennenlernen.
 Für Verpflegung ist auf der ganzen Tour gesorgt. Bei Bedarf fährt der Bu
 s euch am Ende wieder zum Ausgangspunkt zurück.Registriert euch jetzt fü
 r die innovativste Bustour der Westpfalz - die Tour wird in einigen Fachb
 ereichen als Exkursion anerkannt\, fragt einfach bei uns nach.
ATTACH;FMTTYPE=image/jpeg:https://gruendungsbuero.info/app/uploads/2026/03
 /Gemini_Generated_Image_bvl4u0bvl4u0bvl4.png
CATEGORIES:Gründungsbüro
END:VEVENT
END:VCALENDAR