BEGIN:VCALENDAR
VERSION:2.0
PRODID:-//wp-events-plugin.com//7.2.1//EN
BEGIN:VEVENT
UID:51@gruendungsbuero.info
DTSTART:20260528T130000Z
DTEND:20260528T180000Z
DTSTAMP:20260413T150254Z
URL:https://gruendungsbuero.info/events/highway-to-hightech-tour-2/
SUMMARY:Highway to Hightech Tour 2
DESCRIPTION:Highway to Hightech 2026 - Tour 2\n***English Version below - D
 ie Tour wird auf Deutsch oder Englisch angeboten\, je nach Sprachkenntnis 
 der Teilnehmenden.******\n\nBegebt euch am 28.05.2026\, von 14 Uhr bis 19 
 Uhr auf den HighTech-Highway in Kaiserslautern 😉. Lernt auf der Busto
 ur eure zukünftigen ArbeitgeberInnen kennen oder lasst euch von Startups 
 inspirieren euer eigenes Ding zu machen. Besucht mit uns verschiedene Inst
 itute\, Unternehmen und Startups und taucht in die Lauterer BusinessWelt e
 in. An jeder Haltstellen erwartet euch die Vorstellung der Einrichtungen u
 nd die Möglichkeit euch zu vernetzen und Fragen zu stellen.\n\nDie Tour b
 eginnt mit einem Get-together an der RPTU. Von dort aus fahren wir zunäch
 st zu Fuchs Lubricants Germany &amp\; E-LYTE \, gefolgt von einem Besuch b
 ei General Dynamics. Anschließend geht es weiter zum Business + Innovatio
 n Center\, bevor die Tour schließlich im 42kaiserslautern endet.\n\n12:00
  - Treffpunkt RPTU\, Gebäude 58\, Rotunde\n13:00 - FUCHS LUBRICANTS GERMA
 NY &amp\; E-Lyte\nFUCHS LUBRICANTS GERMANY ist eine Tochtergesellschaft de
 r FUCHS SE\, des weltweit größten unabhängigen Anbieters von Schmiersto
 fflösungen. An 4 Standorten in Deutschland arbeiten rund 1.400 Spezialist
 *innen bei der FUCHS LUBRICANTS GERMANY engagiert an innovativen Schmierst
 offlösungen\, die die Mobilität von morgen ermöglichen.\nE‑Lyte ist E
 uropas führender Full‑Service‑Partner für (Hochleistungs‑)Elektrol
 yte für innovative Energiespeichertechnologien. Das Unternehmen bietet ei
 n komplettes industrielles Leistungsportfolio – von Elektrolyt­entwickl
 ung\, Analytik und Benchmarking bis zur Serienfertigung. Das übergeordnet
 e Ziel von E‑Lyte ist es\, zur erfolgreichen Transformation des Energies
 ektors beizutragen und die Energiewende aktiv voranzutreiben.\n14:30 - Gen
 eral Dynamics (GDELS)\nDie General Dynamics European Land Systems–Bridge
  Systems GmbH ist ein weltweit führendes Unternehmen in der Entwicklung\,
  Fertigung und Reparatur komplexer Aluminiumstrukturen sowie innovativer F
 ahrzeug- und Brückensysteme.\n15:45 - Business + Innovation Center\nDas b
 ic wurde 1985 als erstes Technologiezentrum in Rheinland-Pfalz gegründet.
  Als Inkubator wird so der Raum und das Ökosystem geschaffen\, in dem jun
 ge Firmen wachsen und gedeihen können. Hier lernt ihr ein technologiegetr
 iebenes Startup aus Kaiserslautern kennen:\nMontavis: https://www.montavis
 .tech/\n17:00 - 42kaiserslautern\nEntdeckt Innovationen aus den Hochschule
 n\, Instituten und Unternehmen und erfahrt hier außerdem\, was hinter uns
 erem Talent Pool steckt.\n\nNach diesem Tag voller neuer Eindrücke habt i
 hr vielleicht schon zukünftige ArbeitgeberInnen oder Praktikumsplätze im
  Blick - vielleicht hat sich auch die Vision einer Selbstständigkeit gefe
 stigt! Wer weiß?! Auf jeden Fall konntet ihr durch diesen Tag Kaiserslaut
 ern aus der Business-Perspektive kennenlernen.Für Verpflegung ist auf der
  ganzen Tour gesorgt. Registriert euch jetzt für die innovativste Bustou
 r der Westpfalz - die Tour wird in einigen Fachbereichen als Exkursion an
 erkannt\, fragt einfach bei uns nach.\n\n_________________________________
 ______________________________________________________\n\nYou can particip
 ate as a German or English speaker\, during direct networking conversation
 s\, you can speak in the language you are more comfortable with.\nJoin us 
 on May 28\, 2026\, from 2:00 pm to 7:00 pm for the HighTech Highway in Kai
 serslautern 😉.\nThe tour will be offered in German or English\, dependi
 ng on the participants’ language proficiency.\n\nGet to know your future
  employers on this bus tour—or get inspired by startups to create your o
 wn venture. Visit various institutes\, companies\, and startups with us an
 d dive into the business world of Kaiserslautern. At each stop\, you can e
 xpect presentations of the organizations as well as opportunities to netwo
 rk and ask questions.\nThe tour begins with a get-together at RPTU. From t
 here\, we will first travel to Fuchs Lubricants Germany &amp\; E-LYTE\, fo
 llowed by a visit to General Dynamics. Afterwards\, we will continue to th
 e Business + Innovation Center before the tour finally ends at 42kaisersla
 utern.\n12.00 pm - Meeting point at RPTU\, Gebäude 57\, forecourt\n1.00 p
 m - FUCHS LUBRICANTS GERMANY &amp\; E-Lyte\nFUCHS LUBRICANTS GERMANY is a 
 subsidiary of FUCHS SE\, the world's largest independent supplier of lubri
 cant solutions. At FUCHS LUBRICANTS GERMANY\, 1\,400 specialists at 4 loca
 tions in Germany work on innovative lubricant solutions that enable the mo
 bility of tomorrow.\nE-Lyte is Europe’s leading full-service partner for
  (high-performance) electrolytes for innovative energy storage technologie
 s. The company offers a comprehensive industrial service portfolio—rangi
 ng from electrolyte development\, analytics\, and benchmarking to mass pro
 duction. E-Lyte’s overarching goal is to contribute to the successful tr
 ansformation of the energy sector and actively drive the energy transition
  forward.\n2.30 pm - General Dynamics (GDELS)General Dynamics European Lan
 d Systems–Bridge Systems GmbH is a global leader in the development\, ma
 nufacturing\, and repair of complex aluminum structures as well as innovat
 ive vehicle and bridge systems.\n3.45 pm - Business + Innovation CenterThe
  bic was founded in 1985 as the first technology center in Rhineland-Palat
 inate. As an incubator\, it provides the space and ecosystem in which youn
 g companies can grow and thrive. Here\, you will get to know two technolog
 y-driven startups from Kaiserslautern:\nMontavis: https://www.montavis.tec
 h/\n5.00 pm - 42kaiserslauternDiscover innovations from universities\, ins
 titutes\, and companies—and also learn what is behind our talent pool.\n
 After a day full of new impressions\, you may already have potential emplo
 yers or internship opportunities in mind—perhaps your vision of starting
  your own business has also taken shape! Who knows?! In any case\, you wil
 l have experienced Kaiserslautern from a business perspective.\nFood and d
 rinks will be provided throughout the entire tour.\n\nRegister now for the
  most innovative bus tour in the West Palatinate—the tour is recognized 
 as an excursion in some departments\, so feel free to contact us for more 
 information.
ATTACH;FMTTYPE=image/jpeg:https://gruendungsbuero.info/app/uploads/2026/03
 /Gemini_Generated_Image_t38jxnt38jxnt38j.png
CATEGORIES:Gründungsbüro
END:VEVENT
END:VCALENDAR