BEGIN:VCALENDAR
VERSION:2.0
PRODID:-//wp-events-plugin.com//7.2.1//EN
BEGIN:VEVENT
UID:10@gruendungsbuero.info
DTSTART:20251112T160000Z
DTEND:20251112T183000Z
DTSTAMP:20251111T151227Z
URL:https://gruendungsbuero.info/events/future-founders-forum/
SUMMARY:Future Founders Forum
DESCRIPTION:Future founders forum 2025\nYou have a great business idea and 
 want to start a business in Germany? Or you are just interested how to sta
 rt up in Germany and want some info? Join our digital event „Future Foun
 ders Forum – How to Start Up in Germany“ on November 12th. This forum
  is designed to empower aspiring entrepreneurs with the essential knowledg
 e and support needed to launch their startup ventures in Germany.\nThe fol
 lowing agenda awaits you:\n\n\n\n\nTime\nActivity\n\n\n\n\n17:00\nKick-Off
 \n\n\n17:10\nMini-Impulse with Q&amp\;A – Migrant Accelerator\n\n\n17:35
 \nHow can EXIST help you?\n\n\n17:45\nThe Big Panel: How to start up in Ge
 rmany – rules\, regulations\, tips\n\n\n18:30\nBreak\n\n\n18:40\nMini-In
 terview – What the Gründungsbüro has in store for you\n\n\n18:50\nStar
 tup Insights\, Success &amp\; Failure – Interview\n\n\n19:20\nCheck Out 
 and Send-Off into the Sunset\n\n\n\n Don’t miss this opportunity to thr
 ive in our regional diverse and innovative startup landscape. Register now
  for free to secure your spot! The event will be held in English.\nSee you
  at the Future Founders Forum!\n\n&nbsp\;
ATTACH;FMTTYPE=image/jpeg:https://gruendungsbuero.info/app/uploads/2025/07
 /20251112-Future-Founder-Forum-1024x768px-2.png
CATEGORIES:Gründungsbüro
LOCATION:https://gruendungsbuero.info/2024/09/02/veranstaltungen/%20
END:VEVENT
END:VCALENDAR