BEGIN:VCALENDAR
VERSION:2.0
PRODID:-//wp-events-plugin.com//7.2.1//EN
BEGIN:VEVENT
UID:19@gruendungsbuero.info
DTSTART:20251028T130000Z
DTEND:20251028T140000Z
DTSTAMP:20251021T102801Z
URL:https://gruendungsbuero.info/en/events/mit-socialpizza-erklaert-versic
 herungen-fuer-selbststaendige/
SUMMARY:SocialPizza
DESCRIPTION:Starte sicher in deine Selbstständigkeit – im Workshop mit d
 em SocialPizza-Team erfährst du die wichtigsten Basics der Sozialversiche
 rung für Gründer:innen
ATTACH;FMTTYPE=image/jpeg:https://gruendungsbuero.info/app/uploads/2025/09
 /socilapizza_1024_768.png
CATEGORIES:Gründungsbüro
LOCATION:https://gruendungsbuero.info/2024/09/02/veranstaltungen/
END:VEVENT
END:VCALENDAR