BEGIN:VCALENDAR
VERSION:2.0
PRODID:-//wp-events-plugin.com//7.2.1//EN
BEGIN:VEVENT
UID:29@gruendungsbuero.info
DTSTART:20251203T180000Z
DTEND:20251203T200000Z
DTSTAMP:20251118T123847Z
URL:https://gruendungsbuero.info/en/events/frauen-schaffen-zukunft/
SUMMARY:Frauen schaffen Zukunft
DESCRIPTION:Innovationen - Frauen schaffen Zukunft\nHerzliche Einladung zur
  Lesung in der Pfalzbibliothek Kaiserslautern!\n\nFünf inspirierende Frau
 en\, fünf Perspektiven auf die Zukunft von Innovation:\nMelanie Hackler C
 EO von matter\nDr. Anne Friebel Co-Founder von Inline Process Solutions\nA
 lexandra Beran Ärztin für systemische Beratung und Therapie\nSara Kukove
 c CEO &amp\; Founder von Builders &amp\; Creatives\nKarolina Sauer-Sidor C
 o-Founder und CEO von QUCOXX\n\nSie zeigen\, wie Haltung\, Werte und mutig
 es Denken Wandel gestalten. Sie beleuchten Themen wie „Warum sind Haltun
 g und Werte wichtig für Innovationen?“ oder "Wie kann nachhaltige\, wer
 teorientierte Innovation zur treibenden Kraft einer zukunftsfähigen Wirts
 chaft werden?". Erfahrt\, warum ohne klare Werte Innovation beliebig bleib
 t – und wie wertebasierte Entscheidungen Vertrauen schaffen\, Wirkung en
 tfalten und echte Transformation ermöglichen.\nWir freuen uns auf einen i
 nspirierenden Abend\, mit viel Austausch!\n\n
ATTACH;FMTTYPE=image/jpeg:https://gruendungsbuero.info/app/uploads/2025/10
 /Frauen-schaffen-Zukunft.png
CATEGORIES:Gründungsbüro
LOCATION:Pfalzbibliothek\, Bezirksverband Pfalz\, Kaiserslautern\, 67665\, 
 Rheinland-Pfalz\, Germany
X-APPLE-STRUCTURED-LOCATION;VALUE=URI;X-ADDRESS=Bezirksverband Pfalz\, Kais
 erslautern\, 67665\, Rheinland-Pfalz\, Germany;X-APPLE-RADIUS=100;X-TITLE=
 Pfalzbibliothek:geo:0,0
END:VEVENT
END:VCALENDAR