BEGIN:VCALENDAR
VERSION:2.0
PRODID:-//wp-events-plugin.com//7.2.1//EN
BEGIN:VEVENT
UID:55@gruendungsbuero.info
DTSTART:20260325T153000Z
DTEND:20260325T170000Z
DTSTAMP:20260324T144653Z
URL:https://gruendungsbuero.info/en/events/fenster-zur-innovation/
SUMMARY:Fenster zur Innovation
DESCRIPTION:🚀 Fenster zur Innovation: IdeenVielfalt – Start-up-Geschic
 hten aus Kaiserslautern\nKaiserslautern gehört zu den starken Gründungss
 tandorten in Deutschland. Doch wer sind die Menschen hinter den Ideen\, St
 art-ups und Innovationen?\nBei unserer nächsten Veranstaltung der Reihe 
 „Fenster zur Innovation“ geben Gründerinnen und Gründer persönliche
  Einblicke in ihre Start-up-Journeys – von Deep-Tech-Ideen aus der Forsc
 hung bis hin zu gemeinwohlorientierten Geschäftsmodellen.\n📅 25. März
  2026 | 16:30 Uhr\n📍 42kaiserslautern\nDas Programm wird inhaltlich vo
 m Gründungsbüro RPTU&amp\;HS Kaiserslautern gestaltet und bringt spann
 ende Perspektiven aus der regionalen Start-up-Szene auf die Bühne.\nIm An
 schluss laden wir zum offenen Austausch und Networking ein\; eine gute Gel
 egenheit\, das Innovationsökosystem der Region kennenzulernen und neue Ko
 ntakte zu knüpfen.\nDie Veranstaltung wird organisiert von der Science an
 d Innovation Alliance Kaiserslautern (SIAK) gemeinsam mit dem 42kaiserslau
 tern und der Stadt Kaiserslautern.\n👉 Einfach vorbeikommen und vom Star
 t-up-Spirit inspirieren lassen!\n&nbsp\;
ATTACH;FMTTYPE=image/jpeg:https://gruendungsbuero.info/app/uploads/2026/03
 /resized_image.jpg
CATEGORIES:Partnerevent
LOCATION:Das 42Kaiserslautern\, Eisenbahnstraße 42\, Kaiserslautern\, 6765
 5\, Rheinland Pfalz\, Germany
X-APPLE-STRUCTURED-LOCATION;VALUE=URI;X-ADDRESS=Eisenbahnstraße 42\, Kaise
 rslautern\, 67655\, Rheinland Pfalz\, Germany;X-APPLE-RADIUS=100;X-TITLE=D
 as 42Kaiserslautern:geo:0,0
END:VEVENT
END:VCALENDAR